Package: BiocBaseUtils Version: 1.10.0 Command: /home/biocbuild/R/R/bin/R CMD check --install=check:BiocBaseUtils.install-out.txt --library=/home/biocbuild/R/R/site-library --no-vignettes --timings BiocBaseUtils_1.10.0.tar.gz StartedAt: 2025-10-10 06:34:19 -0000 (Fri, 10 Oct 2025) EndedAt: 2025-10-10 06:34:39 -0000 (Fri, 10 Oct 2025) EllapsedTime: 20.0 seconds RetCode: 0 Status: OK CheckDir: BiocBaseUtils.Rcheck Warnings: 0