Package: Bioc.gff Version: 1.0.0 Command: /home/biocbuild/bbs-3.22-bioc/R/bin/R CMD INSTALL Bioc.gff StartedAt: 2025-11-11 15:20:18 -0500 (Tue, 11 Nov 2025) EndedAt: 2025-11-11 15:20:31 -0500 (Tue, 11 Nov 2025) EllapsedTime: 12.7 seconds RetCode: 0 Status: OK