Package: Biobase Version: 2.70.0 Command: /home/biocbuild/bbs-3.22-bioc/R/bin/R CMD INSTALL Biobase StartedAt: 2025-11-11 15:16:01 -0500 (Tue, 11 Nov 2025) EndedAt: 2025-11-11 15:16:11 -0500 (Tue, 11 Nov 2025) EllapsedTime: 9.7 seconds RetCode: 0 Status: OK