Package: Biobase Version: 2.70.0 Command: /home/biocbuild/bbs-3.22-bioc/R/bin/R CMD build --keep-empty-dirs --no-resave-data --md5 Biobase StartedAt: 2025-11-11 16:32:19 -0500 (Tue, 11 Nov 2025) EndedAt: 2025-11-11 16:32:36 -0500 (Tue, 11 Nov 2025) EllapsedTime: 17.0 seconds RetCode: 0 Status: OK PackageFile: Biobase_2.70.0.tar.gz PackageFileSize: 1.887 MiB