Package: Biobase Version: 2.70.0 Command: /Library/Frameworks/R.framework/Resources/bin/R CMD build --keep-empty-dirs --no-resave-data Biobase StartedAt: 2025-11-03 16:12:44 -0500 (Mon, 03 Nov 2025) EndedAt: 2025-11-03 16:13:13 -0500 (Mon, 03 Nov 2025) EllapsedTime: 28.6 seconds RetCode: 0 Status: OK PackageFile: Biobase_2.70.0.tar.gz PackageFileSize: 1.885 MiB