Package: Biobase Version: 2.68.0 Command: /home/biocbuild/R/R/bin/R CMD INSTALL Biobase StartedAt: 2025-10-09 20:23:54 -0000 (Thu, 09 Oct 2025) EndedAt: 2025-10-09 20:24:08 -0000 (Thu, 09 Oct 2025) EllapsedTime: 13.2 seconds RetCode: 0 Status: OK