Package: Biobase Version: 2.68.0 Command: /home/biocbuild/R/R/bin/R CMD build --keep-empty-dirs --no-resave-data Biobase StartedAt: 2025-10-09 23:03:47 -0000 (Thu, 09 Oct 2025) EndedAt: 2025-10-09 23:04:08 -0000 (Thu, 09 Oct 2025) EllapsedTime: 21.0 seconds RetCode: 0 Status: OK PackageFile: Biobase_2.68.0.tar.gz PackageFileSize: 1.926 MiB