Package: BioTIP Version: 1.24.0 Command: /home/biocbuild/bbs-3.22-bioc/R/bin/R CMD check --install=check:BioTIP.install-out.txt --library=/home/biocbuild/bbs-3.22-bioc/R/site-library --timings BioTIP_1.24.0.tar.gz StartedAt: 2025-11-11 21:41:09 -0500 (Tue, 11 Nov 2025) EndedAt: 2025-11-11 21:44:05 -0500 (Tue, 11 Nov 2025) EllapsedTime: 176.2 seconds RetCode: 0 Status: WARNINGS CheckDir: BioTIP.Rcheck Warnings: 3