Package: BioTIP Version: 1.22.0 Command: /Library/Frameworks/R.framework/Resources/bin/R CMD INSTALL BioTIP StartedAt: 2025-09-29 16:36:16 -0400 (Mon, 29 Sep 2025) EndedAt: 2025-09-29 16:36:43 -0400 (Mon, 29 Sep 2025) EllapsedTime: 27.2 seconds RetCode: 0 Status: OK