Package: BioTIP Version: 1.22.0 Command: /Library/Frameworks/R.framework/Resources/bin/R CMD build --keep-empty-dirs --no-resave-data BioTIP StartedAt: 2025-09-25 17:28:07 -0400 (Thu, 25 Sep 2025) EndedAt: 2025-09-25 17:31:31 -0400 (Thu, 25 Sep 2025) EllapsedTime: 204.1 seconds RetCode: 0 Status: OK PackageFile: BioTIP_1.22.0.tar.gz PackageFileSize: 41.56 MiB