Package: BioQC Version: 1.38.0 Command: /home/biocbuild/R/R/bin/R CMD INSTALL BioQC StartedAt: 2025-11-13 21:17:57 -0000 (Thu, 13 Nov 2025) EndedAt: 2025-11-13 21:18:14 -0000 (Thu, 13 Nov 2025) EllapsedTime: 17.5 seconds RetCode: 0 Status: OK