Package: BioQC Version: 1.38.0 Command: /home/biocbuild/R/R/bin/R CMD build --keep-empty-dirs --no-resave-data BioQC StartedAt: 2025-11-14 00:04:15 -0000 (Fri, 14 Nov 2025) EndedAt: 2025-11-14 00:07:01 -0000 (Fri, 14 Nov 2025) EllapsedTime: 166.0 seconds RetCode: 0 Status: OK PackageFile: BioQC_1.38.0.tar.gz PackageFileSize: 4.301 MiB