Package: BioQC Version: 1.38.0 Command: /home/biocbuild/bbs-3.22-bioc/R/bin/R CMD check --install=check:BioQC.install-out.txt --library=/home/biocbuild/bbs-3.22-bioc/R/site-library --timings BioQC_1.38.0.tar.gz StartedAt: 2025-11-11 21:40:41 -0500 (Tue, 11 Nov 2025) EndedAt: 2025-11-11 21:43:23 -0500 (Tue, 11 Nov 2025) EllapsedTime: 162.2 seconds RetCode: 0 Status: OK CheckDir: BioQC.Rcheck Warnings: 0