Package: BioQC Version: 1.36.0 Command: /Library/Frameworks/R.framework/Resources/bin/R CMD INSTALL BioQC StartedAt: 2025-10-09 15:32:41 -0400 (Thu, 09 Oct 2025) EndedAt: 2025-10-09 15:32:56 -0400 (Thu, 09 Oct 2025) EllapsedTime: 15.2 seconds RetCode: 0 Status: OK