Package: BioQC Version: 1.36.0 Command: /Library/Frameworks/R.framework/Resources/bin/R CMD build --keep-empty-dirs --no-resave-data BioQC StartedAt: 2025-10-09 20:18:25 -0400 (Thu, 09 Oct 2025) EndedAt: 2025-10-09 20:21:12 -0400 (Thu, 09 Oct 2025) EllapsedTime: 166.8 seconds RetCode: 0 Status: OK PackageFile: BioQC_1.36.0.tar.gz PackageFileSize: 4.301 MiB