Package: BioQC Version: 1.36.0 Command: rm -rf BioQC.buildbin-libdir && mkdir BioQC.buildbin-libdir && /Users/biocbuild/BBS/utils/build-universal.sh BioQC_1.36.0.tar.gz /Library/Frameworks/R.framework/Resources/bin/R BioQC.buildbin-libdir StartedAt: 2025-10-11 19:14:32 -0400 (Sat, 11 Oct 2025) EndedAt: 2025-10-11 19:14:52 -0400 (Sat, 11 Oct 2025) EllapsedTime: 20.3 seconds RetCode: 0 Status: OK PackageFile: BioQC_1.36.0.tgz PackageFileSize: 4.117 MiB