Package: BioNet Version: 1.70.0 Command: /home/biocbuild/R/R/bin/R CMD INSTALL BioNet StartedAt: 2025-11-10 21:33:17 -0000 (Mon, 10 Nov 2025) EndedAt: 2025-11-10 21:33:36 -0000 (Mon, 10 Nov 2025) EllapsedTime: 19.2 seconds RetCode: 0 Status: OK