Package: BioNet Version: 1.70.0 Command: /home/biocbuild/R/R/bin/R CMD build --keep-empty-dirs --no-resave-data BioNet StartedAt: 2025-11-11 00:02:50 -0000 (Tue, 11 Nov 2025) EndedAt: 2025-11-11 00:03:59 -0000 (Tue, 11 Nov 2025) EllapsedTime: 68.0 seconds RetCode: 0 Status: OK PackageFile: BioNet_1.70.0.tar.gz PackageFileSize: 1.792 MiB