Package: BioNet Version: 1.68.0 Command: chmod a+r BioNet -R && E:\biocbuild\bbs-3.21-bioc\R\bin\R.exe CMD build --keep-empty-dirs --no-resave-data BioNet StartedAt: 2025-08-14 17:42:21 -0400 (Thu, 14 Aug 2025) EndedAt: 2025-08-14 17:44:17 -0400 (Thu, 14 Aug 2025) EllapsedTime: 115.2 seconds RetCode: 0 Status: OK PackageFile: BioNet_1.68.0.tar.gz PackageFileSize: 1.612 MiB