Package: BioNet Version: 1.68.0 Command: rm -rf BioNet.buildbin-libdir && mkdir BioNet.buildbin-libdir && E:\biocbuild\bbs-3.21-bioc\R\bin\R.exe CMD INSTALL --build --library=BioNet.buildbin-libdir BioNet_1.68.0.tar.gz StartedAt: 2025-08-15 08:52:35 -0400 (Fri, 15 Aug 2025) EndedAt: 2025-08-15 08:53:11 -0400 (Fri, 15 Aug 2025) EllapsedTime: 35.7 seconds RetCode: 0 Status: OK PackageFile: BioNet_1.68.0.zip PackageFileSize: 1.325 MiB