Package: BioNet Version: 1.70.0 Command: /home/biocbuild/bbs-3.22-bioc/R/bin/R CMD INSTALL BioNet StartedAt: 2025-11-11 15:29:49 -0500 (Tue, 11 Nov 2025) EndedAt: 2025-11-11 15:30:02 -0500 (Tue, 11 Nov 2025) EllapsedTime: 13.1 seconds RetCode: 0 Status: OK