Package: BioNet Version: 1.68.0 Command: /Library/Frameworks/R.framework/Resources/bin/R CMD INSTALL BioNet StartedAt: 2025-10-02 15:45:21 -0400 (Thu, 02 Oct 2025) EndedAt: 2025-10-02 15:45:51 -0400 (Thu, 02 Oct 2025) EllapsedTime: 30.0 seconds RetCode: 0 Status: OK