Package: BioNet Version: 1.68.0 Command: /Library/Frameworks/R.framework/Resources/bin/R CMD build --keep-empty-dirs --no-resave-data BioNet StartedAt: 2025-10-02 17:26:33 -0400 (Thu, 02 Oct 2025) EndedAt: 2025-10-02 17:28:37 -0400 (Thu, 02 Oct 2025) EllapsedTime: 123.7 seconds RetCode: 0 Status: OK PackageFile: BioNet_1.68.0.tar.gz PackageFileSize: 1.8 MiB