Package: BioNERO Version: 1.18.0 Command: /home/biocbuild/bbs-3.22-bioc/R/bin/R CMD check --install=check:BioNERO.install-out.txt --library=/home/biocbuild/bbs-3.22-bioc/R/site-library --timings BioNERO_1.18.0.tar.gz StartedAt: 2025-11-14 21:40:37 -0500 (Fri, 14 Nov 2025) EndedAt: 2025-11-14 21:53:13 -0500 (Fri, 14 Nov 2025) EllapsedTime: 756.9 seconds RetCode: 0 Status: OK CheckDir: BioNERO.Rcheck Warnings: 0