Package: BioNERO Version: 1.18.0 Command: /home/biocbuild/bbs-3.22-bioc/R/bin/R CMD build --keep-empty-dirs --no-resave-data --md5 BioNERO StartedAt: 2025-11-11 16:35:30 -0500 (Tue, 11 Nov 2025) EndedAt: 2025-11-11 16:40:12 -0500 (Tue, 11 Nov 2025) EllapsedTime: 282.2 seconds RetCode: 0 Status: OK PackageFile: BioNERO_1.18.0.tar.gz PackageFileSize: 4.831 MiB