Package: BioNERO Version: 1.18.0 Command: /Library/Frameworks/R.framework/Resources/bin/R CMD INSTALL BioNERO StartedAt: 2025-11-03 15:40:20 -0500 (Mon, 03 Nov 2025) EndedAt: 2025-11-03 15:41:09 -0500 (Mon, 03 Nov 2025) EllapsedTime: 49.2 seconds RetCode: 0 Status: OK