Package: BioNERO Version: 1.18.0 Command: rm -rf BioNERO.buildbin-libdir && mkdir BioNERO.buildbin-libdir && /Users/biocbuild/BBS/utils/build-universal.sh BioNERO_1.18.0.tar.gz /Library/Frameworks/R.framework/Resources/bin/R BioNERO.buildbin-libdir StartedAt: 2025-11-04 01:30:00 -0500 (Tue, 04 Nov 2025) EndedAt: 2025-11-04 01:30:53 -0500 (Tue, 04 Nov 2025) EllapsedTime: 53.3 seconds RetCode: 0 Status: OK PackageFile: BioNERO_1.18.0.tgz PackageFileSize: 5.119 MiB