Package: BioNERO Version: 1.16.3 Command: /home/biocbuild/R/R/bin/R CMD INSTALL BioNERO StartedAt: 2025-10-09 21:05:41 -0000 (Thu, 09 Oct 2025) EndedAt: 2025-10-09 21:06:32 -0000 (Thu, 09 Oct 2025) EllapsedTime: 50.8 seconds RetCode: 0 Status: OK