Package: BioNAR Version: 1.12.0 Command: /home/biocbuild/bbs-3.22-bioc/R/bin/R CMD check --install=check:BioNAR.install-out.txt --library=/home/biocbuild/bbs-3.22-bioc/R/site-library --timings BioNAR_1.12.0.tar.gz StartedAt: 2025-11-14 21:40:13 -0500 (Fri, 14 Nov 2025) EndedAt: 2025-11-14 21:48:27 -0500 (Fri, 14 Nov 2025) EllapsedTime: 493.5 seconds RetCode: 1 Status: ERROR CheckDir: BioNAR.Rcheck Warnings: NA