Package: BioNAR Version: 1.12.0 Command: /Library/Frameworks/R.framework/Resources/bin/R CMD INSTALL BioNAR StartedAt: 2025-11-02 15:45:54 -0500 (Sun, 02 Nov 2025) EndedAt: 2025-11-02 15:46:29 -0500 (Sun, 02 Nov 2025) EllapsedTime: 35.0 seconds RetCode: 0 Status: OK