Package: BioNAR Version: 1.12.0 Command: /Library/Frameworks/R.framework/Resources/bin/R CMD build --keep-empty-dirs --no-resave-data BioNAR StartedAt: 2025-11-03 16:15:44 -0500 (Mon, 03 Nov 2025) EndedAt: 2025-11-03 16:18:25 -0500 (Mon, 03 Nov 2025) EllapsedTime: 160.9 seconds RetCode: 0 Status: OK PackageFile: BioNAR_1.12.0.tar.gz PackageFileSize: 3.554 MiB