Package: BioNAR Version: 1.10.0 Command: /home/biocbuild/R/R/bin/R CMD INSTALL BioNAR StartedAt: 2025-10-09 21:05:05 -0000 (Thu, 09 Oct 2025) EndedAt: 2025-10-09 21:05:40 -0000 (Thu, 09 Oct 2025) EllapsedTime: 35.9 seconds RetCode: 0 Status: OK