Package: BioNAR Version: 1.10.0 Command: /home/biocbuild/R/R/bin/R CMD build --keep-empty-dirs --no-resave-data BioNAR StartedAt: 2025-10-09 23:08:51 -0000 (Thu, 09 Oct 2025) EndedAt: 2025-10-09 23:11:42 -0000 (Thu, 09 Oct 2025) EllapsedTime: 171.0 seconds RetCode: 1 Status: ERROR PackageFile: None PackageFileSize: NA