Package: BioNAR Version: 1.10.0 Command: rm -rf BioNAR.buildbin-libdir && mkdir BioNAR.buildbin-libdir && /Users/biocbuild/BBS/utils/build-universal.sh BioNAR_1.10.0.tar.gz /Library/Frameworks/R.framework/Resources/bin/R BioNAR.buildbin-libdir StartedAt: 2025-04-21 22:27:51 -0400 (Mon, 21 Apr 2025) EndedAt: 2025-04-21 22:28:02 -0400 (Mon, 21 Apr 2025) EllapsedTime: 11.2 seconds RetCode: 0 Status: OK PackageFile: BioNAR_1.10.0.tgz PackageFileSize: 4.147 MiB