Package: BioMVCClass Version: 1.78.0 Command: /home/biocbuild/bbs-3.22-bioc/R/bin/R CMD INSTALL BioMVCClass StartedAt: 2025-10-31 15:23:07 -0400 (Fri, 31 Oct 2025) EndedAt: 2025-10-31 15:23:12 -0400 (Fri, 31 Oct 2025) EllapsedTime: 4.7 seconds RetCode: 0 Status: OK