Package: BioMVCClass Version: 1.78.0 Command: /home/biocbuild/bbs-3.22-bioc/R/bin/R CMD build --keep-empty-dirs --no-resave-data --md5 BioMVCClass StartedAt: 2025-10-31 16:41:22 -0400 (Fri, 31 Oct 2025) EndedAt: 2025-10-31 16:41:29 -0400 (Fri, 31 Oct 2025) EllapsedTime: 7.0 seconds RetCode: 0 Status: OK PackageFile: BioMVCClass_1.78.0.tar.gz PackageFileSize: 131.9 KiB