Package: BioGA Version: 1.4.0 Command: /home/biocbuild/R/R/bin/R CMD INSTALL BioGA StartedAt: 2025-11-13 22:08:51 -0000 (Thu, 13 Nov 2025) EndedAt: 2025-11-13 22:09:52 -0000 (Thu, 13 Nov 2025) EllapsedTime: 61.0 seconds RetCode: 0 Status: OK