Package: BioGA Version: 1.4.0 Command: /home/biocbuild/R/R/bin/R CMD build --keep-empty-dirs --no-resave-data BioGA StartedAt: 2025-11-14 00:03:19 -0000 (Fri, 14 Nov 2025) EndedAt: 2025-11-14 00:04:33 -0000 (Fri, 14 Nov 2025) EllapsedTime: 74.0 seconds RetCode: 0 Status: OK PackageFile: BioGA_1.4.0.tar.gz PackageFileSize: 334.9 KiB