Package: BioGA Version: 1.4.0 Command: /home/biocbuild/bbs-3.22-bioc/R/bin/R CMD INSTALL BioGA StartedAt: 2025-11-11 16:04:12 -0500 (Tue, 11 Nov 2025) EndedAt: 2025-11-11 16:04:56 -0500 (Tue, 11 Nov 2025) EllapsedTime: 43.7 seconds RetCode: 0 Status: OK