Package: BioGA Version: 1.4.0 Command: /home/biocbuild/bbs-3.22-bioc/R/bin/R CMD build --keep-empty-dirs --no-resave-data --md5 BioGA StartedAt: 2025-11-11 16:35:08 -0500 (Tue, 11 Nov 2025) EndedAt: 2025-11-11 16:36:03 -0500 (Tue, 11 Nov 2025) EllapsedTime: 55.0 seconds RetCode: 0 Status: OK PackageFile: BioGA_1.4.0.tar.gz PackageFileSize: 327.7 KiB