Package: BioGA Version: 1.2.0 Command: /home/biocbuild/bbs-3.21-bioc/R/bin/R CMD INSTALL BioGA StartedAt: 2025-10-01 16:01:01 -0400 (Wed, 01 Oct 2025) EndedAt: 2025-10-01 16:01:45 -0400 (Wed, 01 Oct 2025) EllapsedTime: 43.7 seconds RetCode: 0 Status: OK