Package: BioGA Version: 1.2.0 Command: /home/biocbuild/bbs-3.21-bioc/R/bin/R CMD build --keep-empty-dirs --no-resave-data BioGA StartedAt: 2025-10-01 16:30:03 -0400 (Wed, 01 Oct 2025) EndedAt: 2025-10-01 16:30:56 -0400 (Wed, 01 Oct 2025) EllapsedTime: 53.1 seconds RetCode: 0 Status: OK PackageFile: BioGA_1.2.0.tar.gz PackageFileSize: 325.8 KiB