Package: BioGA Version: 1.2.0 Command: /Library/Frameworks/R.framework/Resources/bin/R CMD build --keep-empty-dirs --no-resave-data BioGA StartedAt: 2025-10-13 17:26:37 -0400 (Mon, 13 Oct 2025) EndedAt: 2025-10-13 17:28:43 -0400 (Mon, 13 Oct 2025) EllapsedTime: 125.9 seconds RetCode: 0 Status: OK PackageFile: BioGA_1.2.0.tar.gz PackageFileSize: 310.7 KiB