Package: BioGA Version: 1.2.0 Command: rm -rf BioGA.buildbin-libdir && mkdir BioGA.buildbin-libdir && /Users/biocbuild/BBS/utils/build-universal.sh BioGA_1.2.0.tar.gz /Library/Frameworks/R.framework/Resources/bin/R BioGA.buildbin-libdir StartedAt: 2025-10-14 12:55:27 -0400 (Tue, 14 Oct 2025) EndedAt: 2025-10-14 12:57:04 -0400 (Tue, 14 Oct 2025) EllapsedTime: 96.6 seconds RetCode: 0 Status: OK PackageFile: BioGA_1.2.0.tgz PackageFileSize: 359.2 KiB