Package: BioGA Version: 1.2.0 Command: /Library/Frameworks/R.framework/Resources/bin/R CMD INSTALL BioGA StartedAt: 2025-04-21 15:44:48 -0400 (Mon, 21 Apr 2025) EndedAt: 2025-04-21 15:45:41 -0400 (Mon, 21 Apr 2025) EllapsedTime: 53.1 seconds RetCode: 0 Status: OK