Package: BioGA Version: 1.2.0 Command: /Library/Frameworks/R.framework/Resources/bin/R CMD build --keep-empty-dirs --no-resave-data BioGA StartedAt: 2025-04-21 16:06:01 -0400 (Mon, 21 Apr 2025) EndedAt: 2025-04-21 16:07:05 -0400 (Mon, 21 Apr 2025) EllapsedTime: 64.1 seconds RetCode: 0 Status: OK PackageFile: BioGA_1.2.0.tar.gz PackageFileSize: 309.4 KiB