Package: BioGA Version: 1.2.0 Command: /Library/Frameworks/R.framework/Resources/bin/R CMD INSTALL BioGA StartedAt: 2025-10-02 18:31:24 -0400 (Thu, 02 Oct 2025) EndedAt: 2025-10-02 18:32:12 -0400 (Thu, 02 Oct 2025) EllapsedTime: 47.3 seconds RetCode: 0 Status: OK