Package: BioGA Version: 1.2.0 Command: rm -rf BioGA.buildbin-libdir && mkdir BioGA.buildbin-libdir && /Users/biocbuild/BBS/utils/build-universal.sh BioGA_1.2.0.tar.gz /Library/Frameworks/R.framework/Resources/bin/R BioGA.buildbin-libdir StartedAt: 2025-10-04 17:06:38 -0400 (Sat, 04 Oct 2025) EndedAt: 2025-10-04 17:07:30 -0400 (Sat, 04 Oct 2025) EllapsedTime: 51.7 seconds RetCode: 0 Status: OK PackageFile: BioGA_1.2.0.tgz PackageFileSize: 356.8 KiB