Package: BioCor Version: 1.34.0 Command: /home/biocbuild/bbs-3.22-bioc/R/bin/R CMD INSTALL BioCor StartedAt: 2025-11-14 15:32:23 -0500 (Fri, 14 Nov 2025) EndedAt: 2025-11-14 15:32:43 -0500 (Fri, 14 Nov 2025) EllapsedTime: 20.1 seconds RetCode: 0 Status: OK