Package: BioCor Version: 1.34.0 Command: /home/biocbuild/bbs-3.22-bioc/R/bin/R CMD build --keep-empty-dirs --no-resave-data --md5 BioCor StartedAt: 2025-11-13 16:31:06 -0500 (Thu, 13 Nov 2025) EndedAt: 2025-11-13 16:34:00 -0500 (Thu, 13 Nov 2025) EllapsedTime: 174.2 seconds RetCode: 0 Status: OK PackageFile: BioCor_1.34.0.tar.gz PackageFileSize: 1.639 MiB